BEGIN:VCALENDAR
VERSION:2.0
PRODID:-//Drupal iCal API//EN
X-WR-CALNAME:Events items teaser
X-WR-TIMEZONE:America/Toronto
BEGIN:VTIMEZONE
TZID:America/Toronto
X-LIC-LOCATION:America/Toronto
BEGIN:DAYLIGHT
TZNAME:EDT
TZOFFSETFROM:-0500
TZOFFSETTO:-0400
DTSTART:20250309T070000
END:DAYLIGHT
BEGIN:STANDARD
TZNAME:EST
TZOFFSETFROM:-0400
TZOFFSETTO:-0500
DTSTART:20241103T060000
END:STANDARD
END:VTIMEZONE
BEGIN:VEVENT
UID:69e6abaad76ff
DTSTART;TZID=America/Toronto:20250911T170000
SEQUENCE:0
TRANSP:TRANSPARENT
DTEND;TZID=America/Toronto:20250911T190000
URL:https://uwaterloo.ca/st-jeromes/events/kieran-bonner-euphoria-and-sympo
 sia
LOCATION:STJ - St. Jerome's University 290 Westmount Road North Waterloo ON
  N2L 3G3 Canada
SUMMARY:Kieran Bonner | Euphoria and Symposia
CLASS:PUBLIC
DESCRIPTION:Kieran Bonner\, Professor of Sociology\, will formally launch h
 is newest\nbook Euphoria and Symposia.
DTSTAMP:20260420T224146Z
END:VEVENT
END:VCALENDAR