BEGIN:VCALENDAR
VERSION:2.0
PRODID:-//Drupal iCal API//EN
X-WR-CALNAME:Events items teaser
X-WR-TIMEZONE:America/Toronto
BEGIN:VTIMEZONE
TZID:America/Toronto
X-LIC-LOCATION:America/Toronto
BEGIN:DAYLIGHT
TZNAME:EDT
TZOFFSETFROM:-0500
TZOFFSETTO:-0400
DTSTART:20250309T070000
END:DAYLIGHT
BEGIN:STANDARD
TZNAME:EST
TZOFFSETFROM:-0400
TZOFFSETTO:-0500
DTSTART:20251102T060000
END:STANDARD
END:VTIMEZONE
BEGIN:VEVENT
UID:69e63b1c65c40
DTSTART;TZID=America/Toronto:20251106T193000
SEQUENCE:0
TRANSP:TRANSPARENT
DTEND;TZID=America/Toronto:20251106T210000
URL:https://uwaterloo.ca/st-jeromes/events/fr-tim-uniac-cr-i-have-seen-lord
 -transforming-power-mary
LOCATION:St. Jerome's University\, Notre Dame Chapel 290 Westmount Road Nor
 th Waterloo ON N2L 3G3 Canada
SUMMARY:Fr. Tim Uniac\, CR | “I have seen the Lord” The Transforming Po
 wer\nof Mary Magdalene’s Proclamation
CLASS:PUBLIC
DESCRIPTION:Father Tim Uniac is a member of the Congregation of the Resurre
 ction\,\nfounding Congregation of St. Jerome’s University will speak on 
 his\nrecently published book “Mary Magdalene: A Resurrection Disciple”
 .
DTSTAMP:20260420T144132Z
END:VEVENT
END:VCALENDAR