BEGIN:VCALENDAR
VERSION:2.0
PRODID:-//Drupal iCal API//EN
X-WR-CALNAME:Events items teaser
X-WR-TIMEZONE:America/Toronto
BEGIN:VTIMEZONE
TZID:America/Toronto
X-LIC-LOCATION:America/Toronto
BEGIN:DAYLIGHT
TZNAME:EDT
TZOFFSETFROM:-0500
TZOFFSETTO:-0400
DTSTART:20250309T070000
END:DAYLIGHT
BEGIN:STANDARD
TZNAME:EST
TZOFFSETFROM:-0400
TZOFFSETTO:-0500
DTSTART:20251102T060000
END:STANDARD
END:VTIMEZONE
BEGIN:VEVENT
UID:69ebab9ec2ee5
DTSTART;TZID=America/Toronto:20251107T140000
SEQUENCE:0
TRANSP:TRANSPARENT
DTEND;TZID=America/Toronto:20251107T150000
URL:https://uwaterloo.ca/st-jeromes/events/christian-smith-why-religion-wen
 t-obsolete-demise
SUMMARY:Christian Smith | Why Religion Went Obsolete: The Demise of\nTradit
 ional Faith
CLASS:PUBLIC
DESCRIPTION:Christian Smith from University of Notre Dame will talk with Ga
 len\nWatts\, Societal Futures Associate Director and University of Waterlo
 o\nAssistant Professor of Psychology\, on the topic of \"Why Religion Wen
 t\nObsolete: The Demise of Traditional Faith.\"
DTSTAMP:20260424T174254Z
END:VEVENT
END:VCALENDAR