BEGIN:VCALENDAR
VERSION:2.0
PRODID:-//Drupal iCal API//EN
X-WR-CALNAME:Events items teaser
X-WR-TIMEZONE:America/Toronto
BEGIN:VTIMEZONE
TZID:America/Toronto
X-LIC-LOCATION:America/Toronto
BEGIN:DAYLIGHT
TZNAME:EDT
TZOFFSETFROM:-0500
TZOFFSETTO:-0400
DTSTART:20230312T070000
END:DAYLIGHT
BEGIN:STANDARD
TZNAME:EST
TZOFFSETFROM:-0400
TZOFFSETTO:-0500
DTSTART:20221106T060000
END:STANDARD
END:VTIMEZONE
BEGIN:VEVENT
UID:69eb0346b5b42
DTSTART;TZID=Africa/Abidjan:20230511T120000
SEQUENCE:0
TRANSP:TRANSPARENT
DTEND;TZID=Africa/Abidjan:20230511T130000
URL:https://uwaterloo.ca/staff-association/events/may-2023-area-reps-meetin
 g-salary-increases
SUMMARY:May 2023 Area Reps meeting: Salary Increases
CLASS:PUBLIC
DESCRIPTION:Monthly Area Reps [/staff-association/area-representatives-coun
 cil]\nmeetings are open to all staff and are a key venue for sharing\ninfo
 rmation about current issues facing staff at Waterloo. The Area\nReps Comm
 ittee facilitates constructive communication between the UWSA\nBoard of Di
 rectors\, area reps\, and all staff in general.\n\nThis month features CH
 ANTAL MOORE FROM HUMAN RESOURCES\, who will be\ntalking about SALARY INC
 REASES.
DTSTAMP:20260424T054438Z
END:VEVENT
END:VCALENDAR