BEGIN:VCALENDAR
VERSION:2.0
PRODID:-//Drupal iCal API//EN
X-WR-CALNAME:Events items teaser
X-WR-TIMEZONE:America/Toronto
BEGIN:VTIMEZONE
TZID:America/Toronto
X-LIC-LOCATION:America/Toronto
BEGIN:DAYLIGHT
TZNAME:EDT
TZOFFSETFROM:-0500
TZOFFSETTO:-0400
DTSTART:20230312T070000
END:DAYLIGHT
BEGIN:STANDARD
TZNAME:EST
TZOFFSETFROM:-0400
TZOFFSETTO:-0500
DTSTART:20221106T060000
END:STANDARD
END:VTIMEZONE
BEGIN:VEVENT
UID:69eb210c8ff50
DTSTART;TZID=America/Toronto:20230913T120000
SEQUENCE:0
TRANSP:TRANSPARENT
DTEND;TZID=America/Toronto:20230913T120000
URL:https://uwaterloo.ca/staff-association/events/2023-election-information
 -session-president
SUMMARY:2023 Election Information Session: President
CLASS:PUBLIC
DESCRIPTION:Ready to make a meaningful impact at UW? Consider running for t
 he role\nof Staff Association president. Your voice can drive positive cha
 nge\,\ninfluence policies\, and ensure that your colleagues' needs are hea
 rd\nand addressed. All members are eligible to be nominated for the role.\
 n\nIn this information session\, you'll hear from the current UWSA\npresid
 ent and president-elect about their experience in the role\nand have an o
 pportunity to ask questions.
DTSTAMP:20260424T075140Z
END:VEVENT
END:VCALENDAR