BEGIN:VCALENDAR
VERSION:2.0
PRODID:-//Drupal iCal API//EN
X-WR-CALNAME:Events items teaser
X-WR-TIMEZONE:America/Toronto
BEGIN:VTIMEZONE
TZID:America/Toronto
X-LIC-LOCATION:America/Toronto
BEGIN:DAYLIGHT
TZNAME:EDT
TZOFFSETFROM:-0500
TZOFFSETTO:-0400
DTSTART:20230312T070000
END:DAYLIGHT
BEGIN:STANDARD
TZNAME:EST
TZOFFSETFROM:-0400
TZOFFSETTO:-0500
DTSTART:20221106T060000
END:STANDARD
END:VTIMEZONE
BEGIN:VEVENT
UID:69eb509f984bd
DTSTART;TZID=America/Toronto:20230919T120000
SEQUENCE:0
TRANSP:TRANSPARENT
DTEND;TZID=America/Toronto:20230919T120000
URL:https://uwaterloo.ca/staff-association/events/2023-election-information
 -session-directors
SUMMARY:2023 Election Information Session: Directors
CLASS:PUBLIC
DESCRIPTION:You can be a driving force for positive change by running for t
 he\nStaff Association Board of Directors. You can help guide the\nassociat
 ion's work ensuring that staff voices and interests are\nrepresented acros
 s our campuses.\n\nIn this information session\, you'll hear from current 
 UWSA directors\nabout their experience in the role and have an opportunit
 y to ask\nquestions.\n\nRegistration is not required\, but is appreciated.
  You can submit\nquestions in advance when you register.
DTSTAMP:20260424T111439Z
END:VEVENT
END:VCALENDAR