BEGIN:VCALENDAR
VERSION:2.0
PRODID:-//Drupal iCal API//EN
X-WR-CALNAME:Events items teaser
X-WR-TIMEZONE:America/Toronto
BEGIN:VTIMEZONE
TZID:America/Toronto
X-LIC-LOCATION:America/Toronto
BEGIN:DAYLIGHT
TZNAME:EDT
TZOFFSETFROM:-0500
TZOFFSETTO:-0400
DTSTART:20230312T070000
END:DAYLIGHT
BEGIN:STANDARD
TZNAME:EST
TZOFFSETFROM:-0400
TZOFFSETTO:-0500
DTSTART:20221106T060000
END:STANDARD
END:VTIMEZONE
BEGIN:VEVENT
UID:69e9911fa2240
DTSTART;TZID=Africa/Abidjan:20230912T120000
SEQUENCE:0
TRANSP:TRANSPARENT
DTEND;TZID=Africa/Abidjan:20230912T120000
URL:https://uwaterloo.ca/staff-association/events/june-28-staff-debrief-ses
 sions
SUMMARY:June 28 staff debrief sessions
CLASS:PUBLIC
DESCRIPTION:The UWSA is coordinating with Human Resources and the Universit
 y’s\nEAP provider to offer small group sessions on September 12 and 27\,
  to\nhelp members process the events of June 28 and any impacts on you and
 \nyour work.
DTSTAMP:20260423T032519Z
END:VEVENT
BEGIN:VEVENT
UID:69e9911fa3419
DTSTART;TZID=Africa/Abidjan:20230927T160000
SEQUENCE:0
TRANSP:TRANSPARENT
DTEND;TZID=Africa/Abidjan:20230927T160000
URL:https://uwaterloo.ca/staff-association/events/june-28-staff-debrief-ses
 sions
SUMMARY:June 28 staff debrief sessions
CLASS:PUBLIC
DESCRIPTION:The UWSA is coordinating with Human Resources and the Universit
 y’s\nEAP provider to offer small group sessions on September 12 and 27\,
  to\nhelp members process the events of June 28 and any impacts on you and
 \nyour work.
DTSTAMP:20260423T032519Z
END:VEVENT
END:VCALENDAR