BEGIN:VCALENDAR
VERSION:2.0
PRODID:-//Drupal iCal API//EN
X-WR-CALNAME:Events items teaser
X-WR-TIMEZONE:America/Toronto
BEGIN:VTIMEZONE
TZID:America/Toronto
X-LIC-LOCATION:America/Toronto
BEGIN:DAYLIGHT
TZNAME:EDT
TZOFFSETFROM:-0500
TZOFFSETTO:-0400
DTSTART:20230312T070000
END:DAYLIGHT
BEGIN:STANDARD
TZNAME:EST
TZOFFSETFROM:-0400
TZOFFSETTO:-0500
DTSTART:20221106T060000
END:STANDARD
END:VTIMEZONE
BEGIN:VEVENT
UID:69eb03464413a
DTSTART;TZID=Africa/Abidjan:20230914T120000
SEQUENCE:0
TRANSP:TRANSPARENT
DTEND;TZID=Africa/Abidjan:20230914T120000
URL:https://uwaterloo.ca/staff-association/events/september-2023-area-reps-
 meeting-how-uwsa-works
SUMMARY:September 2023 Area Reps Meeting: How the UWSA Works
CLASS:PUBLIC
DESCRIPTION:As a UWSA member\, you are invited to attend this meeting\, eve
 n if you\nare not a representative. The purpose of\nthe Area Representat
 ives committee [/staff-association/node/22] is\nto exchange information a
 bout current issues facing staff at UW and to\nkeep an open line of commun
 ication between the UWSA leadership and\nstaff members across the Universi
 ty. 
DTSTAMP:20260424T054438Z
END:VEVENT
END:VCALENDAR