BEGIN:VCALENDAR
VERSION:2.0
PRODID:-//Drupal iCal API//EN
X-WR-CALNAME:Events items teaser
X-WR-TIMEZONE:America/Toronto
BEGIN:VTIMEZONE
TZID:America/Toronto
X-LIC-LOCATION:America/Toronto
BEGIN:DAYLIGHT
TZNAME:EDT
TZOFFSETFROM:-0500
TZOFFSETTO:-0400
DTSTART:20230312T070000
END:DAYLIGHT
BEGIN:STANDARD
TZNAME:EST
TZOFFSETFROM:-0400
TZOFFSETTO:-0500
DTSTART:20221106T060000
END:STANDARD
END:VTIMEZONE
BEGIN:VEVENT
UID:69eb0345388c2
DTSTART;TZID=Africa/Abidjan:20231012T120000
SEQUENCE:0
TRANSP:TRANSPARENT
DTEND;TZID=Africa/Abidjan:20231012T120000
URL:https://uwaterloo.ca/staff-association/events/area-reps-meeting-meet-ca
 ndidates-2023-uwsa-election
SUMMARY:Area Reps Meeting + Meet the Candidates for the 2023 UWSA Election
CLASS:PUBLIC
DESCRIPTION:The October 2023 Area Representatives [/staff-association/node/
 22]\nmeeting is dedicated to showcasing the candidates for UWSA director\n
 [/staff-association/node/1031] in this year's election.\n\nAs a UWSA membe
 r\, you are invited to attend this meeting\, even if you\nare not a repres
 entative. The purpose of the Area Representatives\ncommittee is to exchang
 e information about current issues facing staff\nat UW and to keep an open
  line of communication between the UWSA\nleadership and staff members acro
 ss the University. 
DTSTAMP:20260424T054437Z
END:VEVENT
END:VCALENDAR