BEGIN:VCALENDAR
VERSION:2.0
PRODID:-//Drupal iCal API//EN
X-WR-CALNAME:Events items teaser
X-WR-TIMEZONE:America/Toronto
BEGIN:VTIMEZONE
TZID:America/Toronto
X-LIC-LOCATION:America/Toronto
BEGIN:DAYLIGHT
TZNAME:EDT
TZOFFSETFROM:-0500
TZOFFSETTO:-0400
DTSTART:20230312T070000
END:DAYLIGHT
BEGIN:STANDARD
TZNAME:EST
TZOFFSETFROM:-0400
TZOFFSETTO:-0500
DTSTART:20221106T060000
END:STANDARD
END:VTIMEZONE
BEGIN:VEVENT
UID:69eb4aaae8f7d
DTSTART;TZID=America/Toronto:20231102T120000
SEQUENCE:0
TRANSP:TRANSPARENT
DTEND;TZID=America/Toronto:20231102T124000
URL:https://uwaterloo.ca/staff-association/events/meet-presidents
SUMMARY:Meet the presidents
CLASS:PUBLIC
DESCRIPTION:As of November 2\, we are down to one candidate for president\
 , so LISA\nHABEL WILL BE ACCLAIMED AS PRESIDENT-ELECT EFFECTIVE IMMEDIATEL
 Y.\n\nIn this 40-minute session\, you'll hear from both Lisa and YESSENIA
 \nGUERRERO\, who stepped into the role of president as of yesterday\, and\
 nyou'll have time to ask them questions about their plans for the UWSA.\n\
 nClick here to join the meeting.
DTSTAMP:20260424T104914Z
END:VEVENT
END:VCALENDAR