BEGIN:VCALENDAR
VERSION:2.0
PRODID:-//Drupal iCal API//EN
X-WR-CALNAME:Events items teaser
X-WR-TIMEZONE:America/Toronto
BEGIN:VTIMEZONE
TZID:America/Toronto
X-LIC-LOCATION:America/Toronto
BEGIN:DAYLIGHT
TZNAME:EDT
TZOFFSETFROM:-0500
TZOFFSETTO:-0400
DTSTART:20230312T070000
END:DAYLIGHT
BEGIN:STANDARD
TZNAME:EST
TZOFFSETFROM:-0400
TZOFFSETTO:-0500
DTSTART:20231105T060000
END:STANDARD
END:VTIMEZONE
BEGIN:VEVENT
UID:69e607cfa7e33
DTSTART;TZID=America/Toronto:20231211T123000
SEQUENCE:0
TRANSP:TRANSPARENT
DTEND;TZID=America/Toronto:20231211T123000
URL:https://uwaterloo.ca/staff-association/events/salary-discussions-town-h
 all-meeting
LOCATION:AL - Arts Lecture Hall 200 University Avenue West Room 116 Waterlo
 o ON N2L 3G1 Canada
SUMMARY:Salary Discussions Town Hall Meeting
CLASS:PUBLIC
DESCRIPTION:We are starting our compensation discussions with the universit
 y for a\nnew salary agreement starting May 1\, 2024\, and we want to hear 
 more\nfrom you about what you want to see achieved in this next round of\n
 talks. \n\nWe’re hosting a salary town hall on Monday\, December 11\, f
 rom 12:30\nto 1:50 p.m.\, during which we’ll explain the process that ta
 kes\nplace at the Provost's Advisory Committee on Staff Compensation\n[/st
 aff-association/node/19#pacsc]\, and—more importantly—hear\nabout your
  priorities for the upcoming discussions.
DTSTAMP:20260420T110239Z
END:VEVENT
END:VCALENDAR