BEGIN:VCALENDAR
VERSION:2.0
PRODID:-//Drupal iCal API//EN
X-WR-CALNAME:Events items teaser
X-WR-TIMEZONE:America/Toronto
BEGIN:VTIMEZONE
TZID:America/Toronto
X-LIC-LOCATION:America/Toronto
BEGIN:DAYLIGHT
TZNAME:EDT
TZOFFSETFROM:-0500
TZOFFSETTO:-0400
DTSTART:20240310T070000
END:DAYLIGHT
BEGIN:STANDARD
TZNAME:EST
TZOFFSETFROM:-0400
TZOFFSETTO:-0500
DTSTART:20241103T060000
END:STANDARD
END:VTIMEZONE
BEGIN:VEVENT
UID:69eb63e28f647
DTSTART;TZID=America/Toronto:20250116T120000
SEQUENCE:0
TRANSP:TRANSPARENT
DTEND;TZID=America/Toronto:20250116T130000
URL:https://uwaterloo.ca/staff-association/events/january-2025-area-reps-me
 eting
SUMMARY:January 2025 Area Reps Meeting
CLASS:PUBLIC
DESCRIPTION:JANUARY 2025 TOPIC: SUSTAINABLE TRANSPORTATION WORKING GROUP.\n
 \nThe Area Representatives Committee's purpose is to exchange\ninformation
  about current issues facing staff at UW and to keep an\nopen line of comm
 unication between the UWSA leadership and staff\nmembers across the Univer
 sity. Meetings are open to Area Reps: FIND\nYOURS HERE [/staff-association
 /area-representatives-council] or APPLY\nTO BE ONE NOW\n[/staff-associatio
 n/get-involved/committee-application-form]!
DTSTAMP:20260424T123650Z
END:VEVENT
END:VCALENDAR