BEGIN:VCALENDAR
VERSION:2.0
PRODID:-//Drupal iCal API//EN
X-WR-CALNAME:Events items teaser
X-WR-TIMEZONE:America/Toronto
BEGIN:VTIMEZONE
TZID:America/Toronto
X-LIC-LOCATION:America/Toronto
BEGIN:DAYLIGHT
TZNAME:EDT
TZOFFSETFROM:-0500
TZOFFSETTO:-0400
DTSTART:20240310T070000
END:DAYLIGHT
BEGIN:STANDARD
TZNAME:EST
TZOFFSETFROM:-0400
TZOFFSETTO:-0500
DTSTART:20241103T060000
END:STANDARD
END:VTIMEZONE
BEGIN:VEVENT
UID:69eb0341b4043
DTSTART;TZID=America/Toronto:20250213T120000
SEQUENCE:0
TRANSP:TRANSPARENT
DTEND;TZID=America/Toronto:20250213T130000
URL:https://uwaterloo.ca/staff-association/events/february-2025-area-reps-v
 ivek-goel-and-jacinda-reistma
SUMMARY:February 2025 Area Reps: Vivek Goel and Jacinda Reistma
CLASS:PUBLIC
DESCRIPTION:The February 2025 meeting welcomes guests President Vivek Goel
  and\nVice-President\, Administration and Finance Jacinda Reistma. This\nm
 eeting is for Area Reps only\, but all members can submit questions\nthrou
 gh our Suggestion Box\n[/staff-association/member-services/uwsa-suggestion
 -box].
DTSTAMP:20260424T054433Z
END:VEVENT
END:VCALENDAR