BEGIN:VCALENDAR
VERSION:2.0
PRODID:-//Drupal iCal API//EN
X-WR-CALNAME:Events items teaser
X-WR-TIMEZONE:America/Toronto
BEGIN:VTIMEZONE
TZID:America/Toronto
X-LIC-LOCATION:America/Toronto
BEGIN:DAYLIGHT
TZNAME:EDT
TZOFFSETFROM:-0500
TZOFFSETTO:-0400
DTSTART:20250309T070000
END:DAYLIGHT
BEGIN:STANDARD
TZNAME:EST
TZOFFSETFROM:-0400
TZOFFSETTO:-0500
DTSTART:20241103T060000
END:STANDARD
END:VTIMEZONE
BEGIN:VEVENT
UID:69ec1752934d3
DTSTART;TZID=America/Toronto:20250508T120000
SEQUENCE:0
TRANSP:TRANSPARENT
DTEND;TZID=America/Toronto:20250508T130000
URL:https://uwaterloo.ca/staff-association/events/open-meeting-jennifer-gil
 lies-campus-support-accessibility
SUMMARY:Open meeting with Jennifer Gillies\, Campus Support &amp; Accessibility
CLASS:PUBLIC
DESCRIPTION:The UWSA AREA REPRESENTATIVES COUNCIL\n[/staff-association/are
 a-representatives-council] is a space to\nexchange information about curr
 ent issues facing staff at UW and to\nkeep an open line of communication b
 etween the UWSA leadership and\nstaff members across the University. Most
  meetings are open to Area\nReps\, with one meeting each term open to all 
 UWSA members. \n\nThe May 2025 meeting is open to all members and feature
 s guest speaker\nJennifer Gillies\, Associate Provost\, Campus Support &amp; A
 ccessibility.
DTSTAMP:20260425T012226Z
END:VEVENT
END:VCALENDAR