BEGIN:VCALENDAR
VERSION:2.0
PRODID:-//Drupal iCal API//EN
X-WR-CALNAME:Events items teaser
X-WR-TIMEZONE:America/Toronto
BEGIN:VTIMEZONE
TZID:America/Toronto
X-LIC-LOCATION:America/Toronto
BEGIN:DAYLIGHT
TZNAME:EDT
TZOFFSETFROM:-0500
TZOFFSETTO:-0400
DTSTART:20250309T070000
END:DAYLIGHT
BEGIN:STANDARD
TZNAME:EST
TZOFFSETFROM:-0400
TZOFFSETTO:-0500
DTSTART:20241103T060000
END:STANDARD
END:VTIMEZONE
BEGIN:VEVENT
UID:69e2d047ad1d2
DTSTART;TZID=America/Toronto:20250710T120000
SEQUENCE:0
TRANSP:TRANSPARENT
DTEND;TZID=America/Toronto:20250710T130000
URL:https://uwaterloo.ca/staff-association/events/july-2025-area-reps-meeti
 ng
SUMMARY:July 2025 Area Reps Meeting
CLASS:PUBLIC
DESCRIPTION:The UWSA Area Representatives Council\n[/staff-association/are
 a-representatives-council] is a space to\nexchange information about curr
 ent issues facing staff at UW and to\nkeep an open line of communication b
 etween the UWSA leadership and\nstaff members across the University. Most
  meetings are open to Area\nReps\, with one meeting each term open to all 
 staff. FIND YOUR REP\nHERE [/staff-association/area-representatives-counc
 il] or APPLY TO BE\nONE NOW [/staff-association/get-involved/committee-app
 lication-form]!
DTSTAMP:20260418T002855Z
END:VEVENT
END:VCALENDAR