BEGIN:VCALENDAR
VERSION:2.0
PRODID:-//Drupal iCal API//EN
X-WR-CALNAME:Events items teaser
X-WR-TIMEZONE:America/Toronto
BEGIN:VTIMEZONE
TZID:America/Toronto
X-LIC-LOCATION:America/Toronto
BEGIN:DAYLIGHT
TZNAME:EDT
TZOFFSETFROM:-0500
TZOFFSETTO:-0400
DTSTART:20250309T070000
END:DAYLIGHT
BEGIN:STANDARD
TZNAME:EST
TZOFFSETFROM:-0400
TZOFFSETTO:-0500
DTSTART:20241103T060000
END:STANDARD
END:VTIMEZONE
BEGIN:VEVENT
UID:69ea6379764eb
DTSTART;TZID=America/Toronto:20250911T120000
SEQUENCE:0
TRANSP:TRANSPARENT
DTEND;TZID=America/Toronto:20250911T130000
URL:https://uwaterloo.ca/staff-association/events/open-area-reps-meeting-ed
 i-r-resources-and-supports-staff
SUMMARY:Open Area Reps Meeting: EDI-R Resources and Supports for Staff
CLASS:PUBLIC
DESCRIPTION:The September 2025 meeting welcomes Pamela Braza Pitman\, senio
 r\nmanager of outreach in the OFFICE OF EQUITY\, DIVERSITY\, INCLUSION\, A
 ND\nANTI-RACISM\, discussing SERVICES AND SUPPORTS AVAILABLE TO STAFF\nMEM
 BERS.\n\nAll members welcome!
DTSTAMP:20260423T182249Z
END:VEVENT
END:VCALENDAR