BEGIN:VCALENDAR
VERSION:2.0
PRODID:-//Drupal iCal API//EN
X-WR-CALNAME:Events items teaser
X-WR-TIMEZONE:America/Toronto
BEGIN:VTIMEZONE
TZID:America/Toronto
X-LIC-LOCATION:America/Toronto
BEGIN:DAYLIGHT
TZNAME:EDT
TZOFFSETFROM:-0500
TZOFFSETTO:-0400
DTSTART:20250309T070000
END:DAYLIGHT
BEGIN:STANDARD
TZNAME:EST
TZOFFSETFROM:-0400
TZOFFSETTO:-0500
DTSTART:20241103T060000
END:STANDARD
END:VTIMEZONE
BEGIN:VEVENT
UID:69e5c5d1b1046
DTSTART;TZID=America/Toronto:20250909T120000
SEQUENCE:0
TRANSP:TRANSPARENT
DTEND;TZID=America/Toronto:20250909T130000
URL:https://uwaterloo.ca/staff-association/events/uwsa-election-information
 -sessions
SUMMARY:UWSA Election Information Sessions
CLASS:PUBLIC
DESCRIPTION:Whether you're thinking about running for Staff Association pr
 esident\nor the Board of Directors\, or want to be informed so you can vot
 e for\nthe best candidates\, this info session is for you!\n\nRegister to 
 attend an info session today.
DTSTAMP:20260420T062105Z
END:VEVENT
BEGIN:VEVENT
UID:69e5c5d1b3365
DTSTART;TZID=America/Toronto:20250912T120000
SEQUENCE:0
TRANSP:TRANSPARENT
DTEND;TZID=America/Toronto:20250912T130000
URL:https://uwaterloo.ca/staff-association/events/uwsa-election-information
 -sessions
SUMMARY:UWSA Election Information Sessions
CLASS:PUBLIC
DESCRIPTION:Whether you're thinking about running for Staff Association pr
 esident\nor the Board of Directors\, or want to be informed so you can vot
 e for\nthe best candidates\, this info session is for you!\n\nRegister to 
 attend an info session today.
DTSTAMP:20260420T062105Z
END:VEVENT
BEGIN:VEVENT
UID:69e5c5d1b38e8
DTSTART;TZID=America/Toronto:20250915T140000
SEQUENCE:0
TRANSP:TRANSPARENT
DTEND;TZID=America/Toronto:20250915T150000
URL:https://uwaterloo.ca/staff-association/events/uwsa-election-information
 -sessions
SUMMARY:UWSA Election Information Sessions
CLASS:PUBLIC
DESCRIPTION:Whether you're thinking about running for Staff Association pr
 esident\nor the Board of Directors\, or want to be informed so you can vot
 e for\nthe best candidates\, this info session is for you!\n\nRegister to 
 attend an info session today.
DTSTAMP:20260420T062105Z
END:VEVENT
END:VCALENDAR