BEGIN:VCALENDAR
VERSION:2.0
PRODID:-//Drupal iCal API//EN
X-WR-CALNAME:Events items teaser
X-WR-TIMEZONE:America/Toronto
BEGIN:VTIMEZONE
TZID:America/Toronto
X-LIC-LOCATION:America/Toronto
BEGIN:DAYLIGHT
TZNAME:EDT
TZOFFSETFROM:-0500
TZOFFSETTO:-0400
DTSTART:20250309T070000
END:DAYLIGHT
BEGIN:STANDARD
TZNAME:EST
TZOFFSETFROM:-0400
TZOFFSETTO:-0500
DTSTART:20241103T060000
END:STANDARD
END:VTIMEZONE
BEGIN:VEVENT
UID:69e607c6de24c
DTSTART;TZID=America/Toronto:20251006T120000
SEQUENCE:0
TRANSP:TRANSPARENT
DTEND;TZID=America/Toronto:20251006T130000
URL:https://uwaterloo.ca/staff-association/events/meet-candidates-2025-uwsa
 -elections
SUMMARY:Meet the Candidates: 2025 UWSA Elections
CLASS:PUBLIC
DESCRIPTION:Meet the candidates in this year's presidential and directorial
 \nelections at this online Q&amp;A.
DTSTAMP:20260420T110230Z
END:VEVENT
END:VCALENDAR