BEGIN:VCALENDAR
VERSION:2.0
PRODID:-//Drupal iCal API//EN
X-WR-CALNAME:Events items teaser
X-WR-TIMEZONE:America/Toronto
BEGIN:VTIMEZONE
TZID:America/Toronto
X-LIC-LOCATION:America/Toronto
BEGIN:DAYLIGHT
TZNAME:EDT
TZOFFSETFROM:-0500
TZOFFSETTO:-0400
DTSTART:20250309T070000
END:DAYLIGHT
BEGIN:STANDARD
TZNAME:EST
TZOFFSETFROM:-0400
TZOFFSETTO:-0500
DTSTART:20241103T060000
END:STANDARD
END:VTIMEZONE
BEGIN:VEVENT
UID:69e6071e28d63
DTSTART;TZID=America/Toronto:20251023T093000
SEQUENCE:0
TRANSP:TRANSPARENT
DTEND;TZID=America/Toronto:20251023T103000
URL:https://uwaterloo.ca/staff-association/events/2025-uwsa-annual-meeting
LOCATION:PHY - Physics 200 University Avenue West Waterloo ON N2L 3G1 Canad
 a
SUMMARY:2025 UWSA Annual Meeting
CLASS:PUBLIC
DESCRIPTION:All UWSA members are invited to attend our 2025 Annual Meetin
 g\non OCTOBER 23 at 9:30 a.m. We are offering a hybrid meeting again\nth
 is year\, on Teams and in PHY 313.
DTSTAMP:20260420T105942Z
END:VEVENT
END:VCALENDAR