BEGIN:VCALENDAR
VERSION:2.0
PRODID:-//Drupal iCal API//EN
X-WR-CALNAME:Events items teaser
X-WR-TIMEZONE:America/Toronto
BEGIN:VTIMEZONE
TZID:America/Toronto
X-LIC-LOCATION:America/Toronto
BEGIN:DAYLIGHT
TZNAME:EDT
TZOFFSETFROM:-0500
TZOFFSETTO:-0400
DTSTART:20250309T070000
END:DAYLIGHT
BEGIN:STANDARD
TZNAME:EST
TZOFFSETFROM:-0400
TZOFFSETTO:-0500
DTSTART:20251102T060000
END:STANDARD
END:VTIMEZONE
BEGIN:VEVENT
UID:69ea7a45a288c
DTSTART;TZID=America/Toronto:20251113T120000
SEQUENCE:0
TRANSP:TRANSPARENT
DTEND;TZID=America/Toronto:20251113T130000
URL:https://uwaterloo.ca/staff-association/events/november-2025-area-reps-m
 eeting
SUMMARY:November 2025 Area Reps Meeting
CLASS:PUBLIC
DESCRIPTION:In the November meeting\, reps will discuss PARKING AND OTHER\
 nTRANSPORTATION MATTERS with guests from Sustainable Transportation\,\nand
  will get their first report from new UWSA president Alyssa Kuron.\nTalk t
 o your rep about bringing your questions and comments!
DTSTAMP:20260423T200005Z
END:VEVENT
END:VCALENDAR