BEGIN:VCALENDAR
VERSION:2.0
PRODID:-//Drupal iCal API//EN
X-WR-CALNAME:Events items teaser
X-WR-TIMEZONE:America/Toronto
BEGIN:VTIMEZONE
TZID:America/Toronto
X-LIC-LOCATION:America/Toronto
BEGIN:DAYLIGHT
TZNAME:EDT
TZOFFSETFROM:-0500
TZOFFSETTO:-0400
DTSTART:20250309T070000
END:DAYLIGHT
BEGIN:STANDARD
TZNAME:EST
TZOFFSETFROM:-0400
TZOFFSETTO:-0500
DTSTART:20251102T060000
END:STANDARD
END:VTIMEZONE
BEGIN:VEVENT
UID:69ea66fb59ad9
DTSTART;TZID=America/Toronto:20260108T120000
SEQUENCE:0
TRANSP:TRANSPARENT
DTEND;TZID=America/Toronto:20260108T130000
URL:https://uwaterloo.ca/staff-association/events/january-2026-area-reps-me
 eting
SUMMARY:January 2026 Area Reps Meeting
CLASS:PUBLIC
DESCRIPTION:In the January 2026 meeting\, reps will hear an update from UWS
 A\nPresident Alyssa Kuron\, get a refresher on the Area Reps role and\nres
 ources available\, and have a discussion about the role and\nstructure of 
 Area Reps.
DTSTAMP:20260423T183747Z
END:VEVENT
END:VCALENDAR