BEGIN:VCALENDAR
VERSION:2.0
PRODID:-//Drupal iCal API//EN
X-WR-CALNAME:Events items teaser
X-WR-TIMEZONE:America/Toronto
BEGIN:VTIMEZONE
TZID:America/Toronto
X-LIC-LOCATION:America/Toronto
BEGIN:DAYLIGHT
TZNAME:EDT
TZOFFSETFROM:-0500
TZOFFSETTO:-0400
DTSTART:20250309T070000
END:DAYLIGHT
BEGIN:STANDARD
TZNAME:EST
TZOFFSETFROM:-0400
TZOFFSETTO:-0500
DTSTART:20251102T060000
END:STANDARD
END:VTIMEZONE
BEGIN:VEVENT
UID:69ea69e4c83a7
DTSTART;TZID=America/Toronto:20260212T120000
SEQUENCE:0
TRANSP:TRANSPARENT
DTEND;TZID=America/Toronto:20260212T130000
URL:https://uwaterloo.ca/staff-association/events/february-2026-area-reps-m
 eeting
SUMMARY:February 2026 Area Reps Meeting
CLASS:PUBLIC
DESCRIPTION:The UWSA AREA REPRESENTATIVES COUNCIL\n[/staff-association/are
 a-representatives-council] is a space to\nexchange information about curr
 ent issues facing staff at UW and to\nkeep an open line of communication b
 etween the UWSA leadership and\nstaff members across the University. Most
  meetings are open to Area\nReps\, with one meeting each term open to all 
 staff.\n\nThe February meeting topic is still to be confirmed.
DTSTAMP:20260423T185012Z
END:VEVENT
END:VCALENDAR