BEGIN:VCALENDAR
VERSION:2.0
PRODID:-//Drupal iCal API//EN
X-WR-CALNAME:Events items teaser
X-WR-TIMEZONE:America/Toronto
BEGIN:VTIMEZONE
TZID:America/Toronto
X-LIC-LOCATION:America/Toronto
BEGIN:DAYLIGHT
TZNAME:EDT
TZOFFSETFROM:-0500
TZOFFSETTO:-0400
DTSTART:20260308T070000
END:DAYLIGHT
BEGIN:STANDARD
TZNAME:EST
TZOFFSETFROM:-0400
TZOFFSETTO:-0500
DTSTART:20251102T060000
END:STANDARD
END:VTIMEZONE
BEGIN:VEVENT
UID:69eac06391816
DTSTART;TZID=America/Toronto:20260514T120000
SEQUENCE:0
TRANSP:TRANSPARENT
DTEND;TZID=America/Toronto:20260514T130000
URL:https://uwaterloo.ca/staff-association/events/may-2026-area-reps-meetin
 g
SUMMARY:May 2026 Area Reps Meeting
CLASS:PUBLIC
DESCRIPTION:The UWSA AREA REPRESENTATIVES COUNCIL\n[/staff-association/are
 a-representatives-council] is a space to\nexchange information about curr
 ent issues facing staff at UW and to\nkeep an open line of communication b
 etween the UWSA leadership and\nstaff members across the University. Most
  meetings are open to Area\nReps\, with one meeting each term open to all 
 staff.\n\nThe May meeting topic is still to be confirmed.
DTSTAMP:20260424T005915Z
END:VEVENT
END:VCALENDAR