BEGIN:VCALENDAR
VERSION:2.0
PRODID:-//Drupal iCal API//EN
X-WR-CALNAME:Events items teaser
X-WR-TIMEZONE:America/Toronto
BEGIN:VTIMEZONE
TZID:America/Toronto
X-LIC-LOCATION:America/Toronto
BEGIN:DAYLIGHT
TZNAME:EDT
TZOFFSETFROM:-0500
TZOFFSETTO:-0400
DTSTART:20150308T070000
END:DAYLIGHT
BEGIN:STANDARD
TZNAME:EST
TZOFFSETFROM:-0400
TZOFFSETTO:-0500
DTSTART:20151101T060000
END:STANDARD
END:VTIMEZONE
BEGIN:VEVENT
UID:69e705718250e
DTSTART;TZID=America/Toronto:20151215T113000
SEQUENCE:0
TRANSP:TRANSPARENT
DTEND;TZID=America/Toronto:20151215T130000
URL:https://uwaterloo.ca/staff-association/events/uwsa-open-house-chicopee-
 ticket-sales
LOCATION:DC - William G. Davis Computer Research Centre 200 University Aven
 ue West 3608 Waterloo ON N2L 3G1 Canada
SUMMARY:UWSA Open House &amp; Chicopee Ticket Sales
CLASS:PUBLIC
DESCRIPTION:The UWSA invites all members to this exclusive ONE DAY on-campu
 s sale\nfor Chicopee lift tickets. Tickets are valid for use any day and 
 time\nuntil March 20\, 2016.\n\nDrop by the Davis Centre Room #3608 TUESDA
 Y\, DECEMBER 1511:30 AM TO 1\nPM to get this great offer and join us for 
 apple cider\, coffee and\ntreats.\n\nFill out a ballot to win great DOOR 
 PRIZES including two free lift\ntickets.
DTSTAMP:20260421T050449Z
END:VEVENT
END:VCALENDAR