BEGIN:VCALENDAR
VERSION:2.0
PRODID:-//Drupal iCal API//EN
X-WR-CALNAME:Events items teaser
X-WR-TIMEZONE:America/Toronto
BEGIN:VTIMEZONE
TZID:America/Toronto
X-LIC-LOCATION:America/Toronto
BEGIN:DAYLIGHT
TZNAME:EDT
TZOFFSETFROM:-0500
TZOFFSETTO:-0400
DTSTART:20200308T070000
END:DAYLIGHT
BEGIN:STANDARD
TZNAME:EST
TZOFFSETFROM:-0400
TZOFFSETTO:-0500
DTSTART:20201101T060000
END:STANDARD
END:VTIMEZONE
BEGIN:VEVENT
UID:69eaf0255ffe2
DTSTART;TZID=America/Toronto:20210311T120000
SEQUENCE:0
TRANSP:TRANSPARENT
DTEND;TZID=America/Toronto:20210311T120000
URL:https://uwaterloo.ca/staff-association/events/area-reps-what-w3
SUMMARY:Area Reps: What is W3+?
CLASS:PUBLIC
DESCRIPTION:WHAT IS W3+ ?\n\nIn honour of International Women’s Day (Marc
 h 8)\, this week’s\nspeaker at the Area Reps meeting will be Jordan Hale
 . Jordan\n(they/them/theirs)\, is the Digital Repositories Librarian here 
 at UW\nand a UWSA member\, and they are also one of the staff representati
 ves\non the W3+ organizing committee.
DTSTAMP:20260424T042301Z
END:VEVENT
END:VCALENDAR