BEGIN:VCALENDAR
VERSION:2.0
PRODID:-//Drupal iCal API//EN
X-WR-CALNAME:Events items teaser
X-WR-TIMEZONE:America/Toronto
BEGIN:VTIMEZONE
TZID:America/Toronto
X-LIC-LOCATION:America/Toronto
BEGIN:DAYLIGHT
TZNAME:EDT
TZOFFSETFROM:-0500
TZOFFSETTO:-0400
DTSTART:20210314T070000
END:DAYLIGHT
BEGIN:STANDARD
TZNAME:EST
TZOFFSETFROM:-0400
TZOFFSETTO:-0500
DTSTART:20211107T060000
END:STANDARD
END:VTIMEZONE
BEGIN:VEVENT
UID:69eaed5b5e310
DTSTART;TZID=America/Toronto:20211111T120000
SEQUENCE:0
TRANSP:TRANSPARENT
DTEND;TZID=America/Toronto:20211111T130000
URL:https://uwaterloo.ca/staff-association/events/area-reps-meeting-trauma-
 war
SUMMARY:Area Reps meeting: The trauma of war
CLASS:PUBLIC
DESCRIPTION:The next Area Rep meeting is being held on Thursday\, November 
 11\, 2021\nat Noon online through MS Teams. \n\nOur speaker for the Nov 11
  (Remembrance Day) meeting will be Nancy\nReeves\, Interim Director of Equ
 ity. She will be speaking on the Trauma\nof War and its implications for S
 ocial Work Education and practice.
DTSTAMP:20260424T041107Z
END:VEVENT
END:VCALENDAR