BEGIN:VCALENDAR
VERSION:2.0
PRODID:-//Drupal iCal API//EN
X-WR-CALNAME:Events items teaser
X-WR-TIMEZONE:America/Toronto
BEGIN:VTIMEZONE
TZID:America/Toronto
X-LIC-LOCATION:America/Toronto
BEGIN:DAYLIGHT
TZNAME:EDT
TZOFFSETFROM:-0500
TZOFFSETTO:-0400
DTSTART:20220313T070000
END:DAYLIGHT
BEGIN:STANDARD
TZNAME:EST
TZOFFSETFROM:-0400
TZOFFSETTO:-0500
DTSTART:20211107T060000
END:STANDARD
END:VTIMEZONE
BEGIN:VEVENT
UID:69ebbe3f61131
DTSTART;VALUE=DATE:20220611
SEQUENCE:0
TRANSP:TRANSPARENT
DTEND;VALUE=DATE:20220612
URL:https://uwaterloo.ca/staff-association/events/family-picnic-canadas-won
 derland
SUMMARY:Family Picnic at Canada's Wonderland
CLASS:PUBLIC
DESCRIPTION:Spend the day with your family\, friends and colleagues at Cana
 da's\nWonderland! \n\nEvent:   Family Picnic at Canada’s Wonderland\n
 \nWhen:  All day Saturday\, June 11\, 2022\n\nIncludes: Park admission\, 
 Parking\, and All-You-Can-Eat Lunch in the\nBacklot (indoor and outdoor se
 ating from 2:00 p.m. to 3:00 p.m.)\n\nLUNCH MENU*\n\nSalads\n\n* Caesar an
 d Coleslaw\, Seven Grain\n\nEntrées:
X-MICROSOFT-CDO-ALLDAYEVENT:TRUE
DTSTAMP:20260424T190223Z
END:VEVENT
END:VCALENDAR