BEGIN:VCALENDAR
VERSION:2.0
PRODID:-//Drupal iCal API//EN
X-WR-CALNAME:Events items teaser
X-WR-TIMEZONE:America/Toronto
BEGIN:VTIMEZONE
TZID:America/Toronto
X-LIC-LOCATION:America/Toronto
BEGIN:DAYLIGHT
TZNAME:EDT
TZOFFSETFROM:-0500
TZOFFSETTO:-0400
DTSTART:20220313T070000
END:DAYLIGHT
BEGIN:STANDARD
TZNAME:EST
TZOFFSETFROM:-0400
TZOFFSETTO:-0500
DTSTART:20211107T060000
END:STANDARD
END:VTIMEZONE
BEGIN:VEVENT
UID:69ec17742761f
DTSTART;TZID=America/Toronto:20220908T120000
SEQUENCE:0
TRANSP:TRANSPARENT
DTEND;TZID=America/Toronto:20220908T130000
URL:https://uwaterloo.ca/staff-association/events/area-reps-meeting-1
SUMMARY:Area Reps meeting
CLASS:PUBLIC
DESCRIPTION:Join us to hear Vivek Goel\, President and Vice-Chancellor of U
 Waterloo\ndiscuss the Waterloo at 100 initiative currently underway. Wate
 rloo\nat 100 is a long-term visioning exercise for the institution\,\nconc
 erned with addressing the question: What do we as an institution\naspire t
 o become by our 100th anniversary in 2057?\n\nPresident Goel has taken the
  time to describe his presentation\,\nincluding some discussion questions:
DTSTAMP:20260425T012300Z
END:VEVENT
END:VCALENDAR