BEGIN:VCALENDAR
VERSION:2.0
PRODID:-//Drupal iCal API//EN
X-WR-CALNAME:Events items teaser
X-WR-TIMEZONE:America/Toronto
BEGIN:VTIMEZONE
TZID:America/Toronto
X-LIC-LOCATION:America/Toronto
BEGIN:DAYLIGHT
TZNAME:EDT
TZOFFSETFROM:-0500
TZOFFSETTO:-0400
DTSTART:20220313T070000
END:DAYLIGHT
BEGIN:STANDARD
TZNAME:EST
TZOFFSETFROM:-0400
TZOFFSETTO:-0500
DTSTART:20221106T060000
END:STANDARD
END:VTIMEZONE
BEGIN:VEVENT
UID:69eae4a6f2fbc
DTSTART;TZID=America/Toronto:20221110T120000
SEQUENCE:0
TRANSP:TRANSPARENT
DTEND;TZID=America/Toronto:20221110T120000
URL:https://uwaterloo.ca/staff-association/events/area-reps-meeting-what-ha
 ppening-ukraine
SUMMARY:Area Reps meeting: What is happening in Ukraine?
CLASS:PUBLIC
DESCRIPTION:As a UWSA member\, you are invited to attend our monthly Area R
 eps\nmeetings\, even if you are not an Area Rep. The purpose of the Area\n
 Reps committee is to exchange information about current issues facing\nsta
 ff at UW and to keep an open line of communication between the UWSA\nBoard
  of Directors\, Area Reps\, and all staff in general.
DTSTAMP:20260424T033359Z
END:VEVENT
END:VCALENDAR