BEGIN:VCALENDAR
VERSION:2.0
PRODID:-//Drupal iCal API//EN
X-WR-CALNAME:Events items teaser
X-WR-TIMEZONE:America/Toronto
BEGIN:VTIMEZONE
TZID:America/Toronto
X-LIC-LOCATION:America/Toronto
BEGIN:DAYLIGHT
TZNAME:EDT
TZOFFSETFROM:-0500
TZOFFSETTO:-0400
DTSTART:20220313T070000
END:DAYLIGHT
BEGIN:STANDARD
TZNAME:EST
TZOFFSETFROM:-0400
TZOFFSETTO:-0500
DTSTART:20221106T060000
END:STANDARD
END:VTIMEZONE
BEGIN:VEVENT
UID:69eaf028721e7
DTSTART;TZID=America/Toronto:20221208T120000
SEQUENCE:0
TRANSP:TRANSPARENT
DTEND;TZID=America/Toronto:20221208T120000
URL:https://uwaterloo.ca/staff-association/events/area-reps-meeting-2
SUMMARY:Area Reps meeting
CLASS:PUBLIC
DESCRIPTION:Join the Area Reps meeting this week to hear a presentation\,\n
 _Sustainability at Waterloo: Progress and Next Steps_ by Mathew\nThijssen\
 n[https://uwaterloo.ca/sustainability/people-profiles/mat-thijssen]\,\nDir
 ector of Sustainability.
DTSTAMP:20260424T042304Z
END:VEVENT
END:VCALENDAR