BEGIN:VCALENDAR
VERSION:2.0
PRODID:-//Drupal iCal API//EN
X-WR-CALNAME:Events items teaser
X-WR-TIMEZONE:America/Toronto
BEGIN:VTIMEZONE
TZID:America/Toronto
X-LIC-LOCATION:America/Toronto
BEGIN:DAYLIGHT
TZNAME:EDT
TZOFFSETFROM:-0500
TZOFFSETTO:-0400
DTSTART:20260308T070000
END:DAYLIGHT
BEGIN:STANDARD
TZNAME:EST
TZOFFSETFROM:-0400
TZOFFSETTO:-0500
DTSTART:20251102T060000
END:STANDARD
END:VTIMEZONE
BEGIN:VEVENT
UID:69ea38352c89b
DTSTART;TZID=America/Toronto:20260331T140000
SEQUENCE:0
TRANSP:TRANSPARENT
DTEND;TZID=America/Toronto:20260331T160000
URL:https://uwaterloo.ca/staff-association/events/2026-memorandum-agreement
 -drop-times
SUMMARY:2026 Memorandum of Agreement drop-in times
CLASS:PUBLIC
DESCRIPTION:Drop in with your questions about the MoA revisions. There's no
  formal\npresentation\; come and go as works for you!
DTSTAMP:20260423T151813Z
END:VEVENT
BEGIN:VEVENT
UID:69ea38352f268
DTSTART;TZID=America/Toronto:20260401T123000
SEQUENCE:0
TRANSP:TRANSPARENT
DTEND;TZID=America/Toronto:20260401T140000
URL:https://uwaterloo.ca/staff-association/events/2026-memorandum-agreement
 -drop-times
SUMMARY:2026 Memorandum of Agreement drop-in times
CLASS:PUBLIC
DESCRIPTION:Drop in with your questions about the MoA revisions. There's no
  formal\npresentation\; come and go as works for you!
DTSTAMP:20260423T151813Z
END:VEVENT
BEGIN:VEVENT
UID:69ea38352fb7a
DTSTART;TZID=America/Toronto:20260325T130000
SEQUENCE:0
TRANSP:TRANSPARENT
DTEND;TZID=America/Toronto:20260325T140000
URL:https://uwaterloo.ca/staff-association/events/2026-memorandum-agreement
 -information-sessions
SUMMARY:2026 Memorandum of Agreement information sessions
CLASS:PUBLIC
DESCRIPTION:These sessions will highlight the key proposed changes to the M
 oA and\ngive you a chance to ask questions. All staff are welcome to learn
 \nmore about the revisions and ratification process.
DTSTAMP:20260423T151813Z
END:VEVENT
BEGIN:VEVENT
UID:69ea383530725
DTSTART;TZID=America/Toronto:20260326T120000
SEQUENCE:0
TRANSP:TRANSPARENT
DTEND;TZID=America/Toronto:20260326T130000
URL:https://uwaterloo.ca/staff-association/events/2026-memorandum-agreement
 -information-sessions
SUMMARY:2026 Memorandum of Agreement information sessions
CLASS:PUBLIC
DESCRIPTION:These sessions will highlight the key proposed changes to the M
 oA and\ngive you a chance to ask questions. All staff are welcome to learn
 \nmore about the revisions and ratification process.
DTSTAMP:20260423T151813Z
END:VEVENT
BEGIN:VEVENT
UID:69ea383530fab
DTSTART;TZID=America/Toronto:20260330T120000
SEQUENCE:0
TRANSP:TRANSPARENT
DTEND;TZID=America/Toronto:20260330T130000
URL:https://uwaterloo.ca/staff-association/events/2026-memorandum-agreement
 -information-sessions
SUMMARY:2026 Memorandum of Agreement information sessions
CLASS:PUBLIC
DESCRIPTION:These sessions will highlight the key proposed changes to the M
 oA and\ngive you a chance to ask questions. All staff are welcome to learn
 \nmore about the revisions and ratification process.
DTSTAMP:20260423T151813Z
END:VEVENT
BEGIN:VEVENT
UID:69ea383531802
DTSTART;TZID=America/Toronto:20260402T193000
SEQUENCE:0
TRANSP:TRANSPARENT
DTEND;TZID=America/Toronto:20260402T193000
URL:https://uwaterloo.ca/staff-association/events/uwsa-exclusive-tickets-de
 ar-evan-hansen-st-jacobs-country
SUMMARY:UWSA Exclusive Tickets: Dear Evan Hansen at the St. Jacobs Country\
 nPlayhouse
CLASS:PUBLIC
DESCRIPTION:For anyone who has ever felt on the outside looking in\, Dear E
 van\nHansen is a poignant and powerful story about how we can find each\no
 ther – and ourselves – along the way.\n\nUWSA exclusive pricing is $52
  for each adult ticket and $35 for youth\n(under 20 years old).
DTSTAMP:20260423T151813Z
END:VEVENT
BEGIN:VEVENT
UID:69ea38353237b
DTSTART;TZID=America/Toronto:20260611T120000
SEQUENCE:0
TRANSP:TRANSPARENT
DTEND;TZID=America/Toronto:20260611T130000
URL:https://uwaterloo.ca/staff-association/events/june-2026-area-reps-meeti
 ng
SUMMARY:June 2026 Area Reps Meeting
CLASS:PUBLIC
DESCRIPTION:The UWSA AREA REPRESENTATIVES COUNCIL\n[/staff-association/are
 a-representatives-council] is a space to\nexchange information about curr
 ent issues facing staff at UW and to\nkeep an open line of communication b
 etween the UWSA leadership and\nstaff members across the University. Most
  meetings are open to Area\nReps\, with one meeting each term open to all 
 staff.\n\nThe June meeting topic is still to be confirmed.
DTSTAMP:20260423T151813Z
END:VEVENT
BEGIN:VEVENT
UID:69ea383533bf7
DTSTART;TZID=America/Toronto:20260514T120000
SEQUENCE:0
TRANSP:TRANSPARENT
DTEND;TZID=America/Toronto:20260514T130000
URL:https://uwaterloo.ca/staff-association/events/may-2026-area-reps-meetin
 g
SUMMARY:May 2026 Area Reps Meeting
CLASS:PUBLIC
DESCRIPTION:The UWSA AREA REPRESENTATIVES COUNCIL\n[/staff-association/are
 a-representatives-council] is a space to\nexchange information about curr
 ent issues facing staff at UW and to\nkeep an open line of communication b
 etween the UWSA leadership and\nstaff members across the University. Most
  meetings are open to Area\nReps\, with one meeting each term open to all 
 staff.\n\nThe May meeting topic is still to be confirmed.
DTSTAMP:20260423T151813Z
END:VEVENT
BEGIN:VEVENT
UID:69ea383534cf7
DTSTART;TZID=America/Toronto:20260409T120000
SEQUENCE:0
TRANSP:TRANSPARENT
DTEND;TZID=America/Toronto:20260409T130000
URL:https://uwaterloo.ca/staff-association/events/april-2026-area-reps-meet
 ing
SUMMARY:April 2026 Area Reps Meeting
CLASS:PUBLIC
DESCRIPTION:The UWSA AREA REPRESENTATIVES COUNCIL\n[/staff-association/are
 a-representatives-council] is a space to\nexchange information about curr
 ent issues facing staff at UW and to\nkeep an open line of communication b
 etween the UWSA leadership and\nstaff members across the University. Most
  meetings are open to Area\nReps\, with one meeting each term open to all 
 staff.\n\nIn April\, reps will meet in person for lunch\, networking\, and
 \nconversations about what’s important to staff right now.
DTSTAMP:20260423T151813Z
END:VEVENT
BEGIN:VEVENT
UID:69ea383535bfa
DTSTART;TZID=America/Toronto:20260312T120000
SEQUENCE:0
TRANSP:TRANSPARENT
DTEND;TZID=America/Toronto:20260312T130000
URL:https://uwaterloo.ca/staff-association/events/march-2026-area-reps-meet
 ing
SUMMARY:March 2026 Area Reps Meeting
CLASS:PUBLIC
DESCRIPTION:The UWSA AREA REPRESENTATIVES COUNCIL\n[/staff-association/are
 a-representatives-council] is a space to\nexchange information about curr
 ent issues facing staff at UW and to\nkeep an open line of communication b
 etween the UWSA leadership and\nstaff members across the University. Most
  meetings are open to Area\nReps\, with one meeting each term open to all 
 staff.\n\nThe March meeting topic is still to be confirmed.
DTSTAMP:20260423T151813Z
END:VEVENT
BEGIN:VEVENT
UID:69ea383536a75
DTSTART;TZID=America/Toronto:20260212T120000
SEQUENCE:0
TRANSP:TRANSPARENT
DTEND;TZID=America/Toronto:20260212T130000
URL:https://uwaterloo.ca/staff-association/events/february-2026-area-reps-m
 eeting
SUMMARY:February 2026 Area Reps Meeting
CLASS:PUBLIC
DESCRIPTION:The UWSA AREA REPRESENTATIVES COUNCIL\n[/staff-association/are
 a-representatives-council] is a space to\nexchange information about curr
 ent issues facing staff at UW and to\nkeep an open line of communication b
 etween the UWSA leadership and\nstaff members across the University. Most
  meetings are open to Area\nReps\, with one meeting each term open to all 
 staff.\n\nThe February meeting topic is still to be confirmed.
DTSTAMP:20260423T151813Z
END:VEVENT
BEGIN:VEVENT
UID:69ea38353784e
DTSTART;TZID=America/Toronto:20260108T120000
SEQUENCE:0
TRANSP:TRANSPARENT
DTEND;TZID=America/Toronto:20260108T130000
URL:https://uwaterloo.ca/staff-association/events/january-2026-area-reps-me
 eting
SUMMARY:January 2026 Area Reps Meeting
CLASS:PUBLIC
DESCRIPTION:In the January 2026 meeting\, reps will hear an update from UWS
 A\nPresident Alyssa Kuron\, get a refresher on the Area Reps role and\nres
 ources available\, and have a discussion about the role and\nstructure of 
 Area Reps.
DTSTAMP:20260423T151813Z
END:VEVENT
BEGIN:VEVENT
UID:69ea3835382a3
DTSTART;TZID=America/Toronto:20251211T120000
SEQUENCE:0
TRANSP:TRANSPARENT
DTEND;TZID=America/Toronto:20251211T130000
URL:https://uwaterloo.ca/staff-association/events/december-2025-area-reps-m
 eeting
SUMMARY:December 2025 Area Reps Meeting
CLASS:PUBLIC
DESCRIPTION:In the December meeting\, reps will discuss ACCOMMODATIONS\, L
 EAVES\,\nand more with guests from Employee Health and Accommodations.
DTSTAMP:20260423T151813Z
END:VEVENT
END:VCALENDAR