BEGIN:VCALENDAR
VERSION:2.0
PRODID:-//Drupal iCal API//EN
X-WR-CALNAME:Events items teaser
X-WR-TIMEZONE:America/Toronto
BEGIN:VTIMEZONE
TZID:America/Toronto
X-LIC-LOCATION:America/Toronto
BEGIN:DAYLIGHT
TZNAME:EDT
TZOFFSETFROM:-0500
TZOFFSETTO:-0400
DTSTART:20260308T070000
END:DAYLIGHT
BEGIN:STANDARD
TZNAME:EST
TZOFFSETFROM:-0400
TZOFFSETTO:-0500
DTSTART:20251102T060000
END:STANDARD
END:VTIMEZONE
BEGIN:VEVENT
UID:69d6a8ad53e36
DTSTART;TZID=America/Toronto:20260407T133000
SEQUENCE:0
TRANSP:TRANSPARENT
DTEND;TZID=America/Toronto:20260407T143000
URL:https://uwaterloo.ca/staff-conference/events/afternoon-keynote-taylor-l
 indsay-noel-redefining-possible
SUMMARY:Afternoon Keynote - Taylor Lindsay-Noel - Redefining Possible: Less
 ons\nfor Taking on the World
CLASS:PUBLIC
DESCRIPTION:[Keynote speaker: Taylor Linday-Noel]\nAt the age of 14\, Taylo
 r Lindsay-Noel was a nationally recognized\nCanadian gymnast\, on track to
  compete in the 2012 London Olympics.\nEverything changed in an instant wh
 en\, following a tragic accident\,\nshe found herself paralyzed from the n
 eck down. After more than a\ndecade of growth and healing\, Taylor has cha
 nnelled the passion that\ndrove her as a gymnast into her endeavours as a 
 thriving entrepreneur\,\npodcaster\, speaker\, and motivational figure.\n\
 nAs a renowned entrepreneur\, Taylor highlights the business strategy\nshe
  used to build her thriving loose-leaf tea company\, Cup of Té\, and\ndet
 ails her extraordinary journey overcoming extreme adversity to\ncreate a s
 uccessful business from the ashes.
DTSTAMP:20260408T191245Z
END:VEVENT
END:VCALENDAR