BEGIN:VCALENDAR
VERSION:2.0
PRODID:-//Drupal iCal API//EN
X-WR-CALNAME:Events items teaser
X-WR-TIMEZONE:America/Toronto
BEGIN:VTIMEZONE
TZID:America/Toronto
X-LIC-LOCATION:America/Toronto
BEGIN:DAYLIGHT
TZNAME:EDT
TZOFFSETFROM:-0500
TZOFFSETTO:-0400
DTSTART:20260308T070000
END:DAYLIGHT
BEGIN:STANDARD
TZNAME:EST
TZOFFSETFROM:-0400
TZOFFSETTO:-0500
DTSTART:20251102T060000
END:STANDARD
END:VTIMEZONE
BEGIN:VEVENT
UID:69d6a8a9e957e
DTSTART;TZID=America/Toronto:20260407T110000
SEQUENCE:0
TRANSP:TRANSPARENT
DTEND;TZID=America/Toronto:20260407T120000
URL:https://uwaterloo.ca/staff-conference/events/creating-better-surveys-uw
 aterloo
SUMMARY:Creating Better Surveys at UWaterloo
CLASS:PUBLIC
DESCRIPTION:The Statistical Consulting and Survey Research Unit can be used
  as a\nservice for staff and faculty to elevate their work\, inform strate
 gic\nplanning\, and tell their stories via survey data. This workshop will
 \nreview the SCSRU’s services\, how non-academic surveys are conducted\n
 at UWaterloo\, policy 55\, and related procedures. The SCSRU aims to\nsupp
 ort the effective collection and use of high-quality data and to\nensure t
 hat everyone on campus understands survey design best\npractices. We’ll 
 review common issues in survey questions and\ndiscuss strategies for impro
 ving them. This workshop will also discuss\nbest strategies for detecting\
 , preventing\, and cleaning fraudulent\ndata and bot attacks. Finally\, th
 is workshop will introduce\nopportunities for staff to participate in ongo
 ing SCSRU projects and\npartnerships (i.e.\, the SES\, LITE grants\, etc.)
 . Participants will\ntake part in an interactive survey-writing activity\,
  crafting\nquestions and discussing them together as a group.
DTSTAMP:20260408T191241Z
END:VEVENT
END:VCALENDAR