BEGIN:VCALENDAR
VERSION:2.0
PRODID:-//Drupal iCal API//EN
X-WR-CALNAME:Events items teaser
X-WR-TIMEZONE:America/Toronto
BEGIN:VTIMEZONE
TZID:America/Toronto
X-LIC-LOCATION:America/Toronto
BEGIN:DAYLIGHT
TZNAME:EDT
TZOFFSETFROM:-0500
TZOFFSETTO:-0400
DTSTART:20260308T070000
END:DAYLIGHT
BEGIN:STANDARD
TZNAME:EST
TZOFFSETFROM:-0400
TZOFFSETTO:-0500
DTSTART:20251102T060000
END:STANDARD
END:VTIMEZONE
BEGIN:VEVENT
UID:69d6a8a679b4a
DTSTART;TZID=America/Toronto:20260407T110000
SEQUENCE:0
TRANSP:TRANSPARENT
DTEND;TZID=America/Toronto:20260407T120000
URL:https://uwaterloo.ca/staff-conference/events/how-can-we-improve-efficie
 ncy-equity-training
SUMMARY:How Can We Improve the Efficiency of Equity Training?
CLASS:PUBLIC
DESCRIPTION:Equity\, diversity\, inclusion and anti-racism training has bec
 ome an\nessential part of professional development initiatives across\nind
 ustries. However\, post-training feedback often reports medium or\nlower l
 evels of efficiency and knowledge transfer associated with\nequity trainin
 g programs. By revisiting cases of providing equity\ntraining\, this works
 hop will identify and explain the challenges\nassociated with delivering a
 nd receiving such initiatives. The session\nwill compare the employees' ex
 pectations of equity training with the\nrequirements of professional devel
 opment programs. During the session\ndiscussions\, we will examine the gap
 s and provide practical\nsuggestions on how to enhance EDI-related trainin
 g within individual\ndepartments.
DTSTAMP:20260408T191238Z
END:VEVENT
END:VCALENDAR