BEGIN:VCALENDAR
VERSION:2.0
PRODID:-//Drupal iCal API//EN
X-WR-CALNAME:Events items teaser
X-WR-TIMEZONE:America/Toronto
BEGIN:VTIMEZONE
TZID:America/Toronto
X-LIC-LOCATION:America/Toronto
BEGIN:DAYLIGHT
TZNAME:EDT
TZOFFSETFROM:-0500
TZOFFSETTO:-0400
DTSTART:20260308T070000
END:DAYLIGHT
BEGIN:STANDARD
TZNAME:EST
TZOFFSETFROM:-0400
TZOFFSETTO:-0500
DTSTART:20251102T060000
END:STANDARD
END:VTIMEZONE
BEGIN:VEVENT
UID:69d7494c111e2
DTSTART;TZID=America/Toronto:20260407T110000
SEQUENCE:0
TRANSP:TRANSPARENT
DTEND;TZID=America/Toronto:20260407T120000
URL:https://uwaterloo.ca/staff-conference/events/shaping-waterloos-digital-
 future-storytelling-design-and
SUMMARY:Shaping Waterloo’s Digital Future: Storytelling\, Design\, and\nC
 ollaboration
CLASS:PUBLIC
DESCRIPTION:This employee-led session uses the digitization of the Universi
 ty of\nWaterloo’s Global Futures publication as a lens to explore how\ns
 torytelling\, design\, and collaboration shape our digital future.\nDevelo
 ped by the President’s Office\, Creative Studio\, and UR\nCommunications
 \, this transformation shows how Waterloo navigates\nchange through creati
 ve teamwork and strategic\, user-centered design.\nThe session highlights 
 how thoughtful digital storytelling\, supported\nby accessible design\, da
 ta-informed choices\, and new tools\, can\nstrengthen connections to Water
 loo’s mission\, vision\, and values.\nThrough this example\, attendees w
 ill see how inspiring narratives and\nintentional digital design can broad
 en reach by elevating diverse\nvoices and creating meaningful experiences 
 across our community and\nbeyond.
DTSTAMP:20260409T063804Z
END:VEVENT
END:VCALENDAR