BEGIN:VCALENDAR
VERSION:2.0
PRODID:-//Drupal iCal API//EN
X-WR-CALNAME:Events items teaser
X-WR-TIMEZONE:America/Toronto
BEGIN:VTIMEZONE
TZID:America/Toronto
X-LIC-LOCATION:America/Toronto
BEGIN:DAYLIGHT
TZNAME:EDT
TZOFFSETFROM:-0500
TZOFFSETTO:-0400
DTSTART:20260308T070000
END:DAYLIGHT
BEGIN:STANDARD
TZNAME:EST
TZOFFSETFROM:-0400
TZOFFSETTO:-0500
DTSTART:20251102T060000
END:STANDARD
END:VTIMEZONE
BEGIN:VEVENT
UID:69d6a8a96e583
DTSTART;TZID=America/Toronto:20260407T150000
SEQUENCE:0
TRANSP:TRANSPARENT
DTEND;TZID=America/Toronto:20260407T160000
URL:https://uwaterloo.ca/staff-conference/events/ai-and-tech-facilitated-ab
 use
SUMMARY:AI and Tech-Facilitated Abuse
CLASS:PUBLIC
DESCRIPTION:AI and deepfake technologies are rapidly evolving tools with\ns
 ignificant potential for positive impact. However\, they are\nincreasingly
  being misused to create harmful and exploitative content.\nJoin us for a 
 workshop exploring how sexual violence intersects with\ntechnology. We’l
 l examine how this emerging technology is having\nextreme real-world impac
 ts on often unknowing victims.
DTSTAMP:20260408T191241Z
END:VEVENT
END:VCALENDAR