BEGIN:VCALENDAR
VERSION:2.0
PRODID:-//Drupal iCal API//EN
X-WR-CALNAME:Events items teaser
X-WR-TIMEZONE:America/Toronto
BEGIN:VTIMEZONE
TZID:America/Toronto
X-LIC-LOCATION:America/Toronto
BEGIN:DAYLIGHT
TZNAME:EDT
TZOFFSETFROM:-0500
TZOFFSETTO:-0400
DTSTART:20260308T070000
END:DAYLIGHT
BEGIN:STANDARD
TZNAME:EST
TZOFFSETFROM:-0400
TZOFFSETTO:-0500
DTSTART:20251102T060000
END:STANDARD
END:VTIMEZONE
BEGIN:VEVENT
UID:69d6a8aabaef8
DTSTART;TZID=America/Toronto:20260407T150000
SEQUENCE:0
TRANSP:TRANSPARENT
DTEND;TZID=America/Toronto:20260407T160000
URL:https://uwaterloo.ca/staff-conference/events/centering-human-experience
 -academic-settings
SUMMARY:Centering the Human Experience in Academic Settings
CLASS:PUBLIC
DESCRIPTION:Artificial Intelligence (AI) is rapidly reshaping teaching\, le
 arning\,\nand assessment in higher education. While AI offers new opportun
 ities\nfor innovation and efficiency\, it is also introducing complex\ncha
 llenges related to student well-being\, accessibility\, academic\nintegrit
 y\, and meaningful human connections. Grounded in universal\ndesign\, trau
 ma-informed practices\, and student-centered approaches\,\nthis session em
 phasizes actionable strategies that center on empathy\,\nmaintain professi
 onal boundaries\, and foster inclusive pedagogy in our\ntechnology-rich le
 arning environments.
DTSTAMP:20260408T191242Z
END:VEVENT
END:VCALENDAR