BEGIN:VCALENDAR
VERSION:2.0
PRODID:-//Drupal iCal API//EN
X-WR-CALNAME:Events items teaser
X-WR-TIMEZONE:America/Toronto
BEGIN:VTIMEZONE
TZID:America/Toronto
X-LIC-LOCATION:America/Toronto
BEGIN:DAYLIGHT
TZNAME:EDT
TZOFFSETFROM:-0500
TZOFFSETTO:-0400
DTSTART:20260308T070000
END:DAYLIGHT
BEGIN:STANDARD
TZNAME:EST
TZOFFSETFROM:-0400
TZOFFSETTO:-0500
DTSTART:20251102T060000
END:STANDARD
END:VTIMEZONE
BEGIN:VEVENT
UID:69d74937d65b7
DTSTART;TZID=America/Toronto:20260407T150000
SEQUENCE:0
TRANSP:TRANSPARENT
DTEND;TZID=America/Toronto:20260407T160000
URL:https://uwaterloo.ca/staff-conference/events/stories-serve-us-charting-
 your-career-journey-waterloo
SUMMARY:Stories That Serve Us: Charting Your Career Journey at Waterloo
CLASS:PUBLIC
DESCRIPTION:Many of us find ourselves wondering: _Where do I fit? What’s 
 my next\nstep? How do I show up in a meaningful way when so much around me
  is\nshifting?_ In a time of evolving structures\, shifting priorities\, a
 nd\nongoing change across campus and beyond\, these questions can feel bot
 h\nimportant and overwhelming. This workshop offers space to explore how\n
 our personal career stories intersect with Waterloo’s evolving\ninstitut
 ional story\, and to begin orienting and finding our way by\nidentifying t
 he stories that truly serve us.\n\nGrounded in Waterloo’s long‑term vi
 sion and informed by real\nsentiments shared by staff from across campus\,
  this session invites\nyou to examine which stories are currently serving 
 you\, which may no\nlonger fit\, and how you might reimagine or adapt your
  narrative as you\nmove forward. Through movement-based activities* and br
 ief\nconversations with colleagues\, you’ll be introduced to practical\n
 strategies and tools to support you in wayfinding your career at\nWaterloo
 .
DTSTAMP:20260409T063743Z
END:VEVENT
END:VCALENDAR