BEGIN:VCALENDAR
VERSION:2.0
PRODID:-//Drupal iCal API//EN
X-WR-CALNAME:Events items teaser
X-WR-TIMEZONE:America/Toronto
BEGIN:VTIMEZONE
TZID:America/Toronto
X-LIC-LOCATION:America/Toronto
BEGIN:DAYLIGHT
TZNAME:EDT
TZOFFSETFROM:-0500
TZOFFSETTO:-0400
DTSTART:20260308T070000
END:DAYLIGHT
BEGIN:STANDARD
TZNAME:EST
TZOFFSETFROM:-0400
TZOFFSETTO:-0500
DTSTART:20251102T060000
END:STANDARD
END:VTIMEZONE
BEGIN:VEVENT
UID:69d74933ca05c
DTSTART;TZID=America/Toronto:20260407T150000
SEQUENCE:0
TRANSP:TRANSPARENT
DTEND;TZID=America/Toronto:20260407T160000
URL:https://uwaterloo.ca/staff-conference/events/wasting-food-not-economy
SUMMARY:Wasting Food? Not In This Economy!
CLASS:PUBLIC
DESCRIPTION:Food costs and average global temperatures are rising\, but the
 re still\nis hope. In this workshop hosted by Food Services and the\nSusta
 inability Office\, you will learn how to reduce your food carbon\nfootprin
 t and food waste\, while saving money. Participants will also\nhave the op
 portunity to sample a curried lentil soup and make and take\na soup kit to
  cook at home.
DTSTAMP:20260409T063739Z
END:VEVENT
END:VCALENDAR