BEGIN:VCALENDAR
VERSION:2.0
PRODID:-//Drupal iCal API//EN
X-WR-CALNAME:Events items teaser
X-WR-TIMEZONE:America/Toronto
BEGIN:VTIMEZONE
TZID:America/Toronto
X-LIC-LOCATION:America/Toronto
BEGIN:DAYLIGHT
TZNAME:EDT
TZOFFSETFROM:-0500
TZOFFSETTO:-0400
DTSTART:20260308T070000
END:DAYLIGHT
BEGIN:STANDARD
TZNAME:EST
TZOFFSETFROM:-0400
TZOFFSETTO:-0500
DTSTART:20251102T060000
END:STANDARD
END:VTIMEZONE
BEGIN:VEVENT
UID:69d7492fae25b
DTSTART;TZID=America/Toronto:20260407T150000
SEQUENCE:0
TRANSP:TRANSPARENT
DTEND;TZID=America/Toronto:20260407T160000
URL:https://uwaterloo.ca/staff-conference/events/what-staff-wish-they-knew-
 sooner-branded-merch-and-planning
SUMMARY:What Staff Wish They Knew Sooner: Branded Merch and Planning Events
  at\nUWaterloo
CLASS:PUBLIC
DESCRIPTION:Panel of three experts from supporting units on campus (Caterin
 g and\nEvent Services\, W Print\, W Store Custom Orders) answer questions 
 about\nhow to run events smoother. Planning events at UWaterloo can be\nco
 mplex. Timelines shift\, resources are limited and budgets don’t\nalways
  stretch as far as planned. This session is designed to help\nstaff plan w
 ith confidence by combining a high-level overview of key\ncampus services 
 with real\, practical examples of how those services\nsupport successful e
 vents.
DTSTAMP:20260409T063735Z
END:VEVENT
END:VCALENDAR