BEGIN:VCALENDAR
VERSION:2.0
PRODID:-//Drupal iCal API//EN
X-WR-CALNAME:Events items teaser
X-WR-TIMEZONE:America/Toronto
BEGIN:VTIMEZONE
TZID:America/Toronto
X-LIC-LOCATION:America/Toronto
BEGIN:DAYLIGHT
TZNAME:EDT
TZOFFSETFROM:-0500
TZOFFSETTO:-0400
DTSTART:20260308T070000
END:DAYLIGHT
BEGIN:STANDARD
TZNAME:EST
TZOFFSETFROM:-0400
TZOFFSETTO:-0500
DTSTART:20251102T060000
END:STANDARD
END:VTIMEZONE
BEGIN:VEVENT
UID:69d7492b8673a
DTSTART;TZID=America/Toronto:20260408T090000
SEQUENCE:0
TRANSP:TRANSPARENT
DTEND;TZID=America/Toronto:20260408T100000
URL:https://uwaterloo.ca/staff-conference/events/data-common-language-build
 ing-community-across-campus
SUMMARY:Data as a Common Language: Building Community Across Campus
CLASS:PUBLIC
DESCRIPTION:Discover how a grassroots community of practice centered around
  data\nhas reshaped how staff connect\, collaborate\, and engage with\nUni
 versity resources. The Data Analyst Forum was formed after the\npandemic w
 ith two simple goals: build a sense of belonging among staff\nand share kn
 owledge to improve our work. Through real “data\nstories” participants
  will learn how data literacy grows through\nknowledge sharing and how col
 lective learning can spark cultural\nchange. The stories will also showcas
 e examples of connecting data\nfrom different sources\, practical ways to 
 keep data safe\, and how to\nfind and use institutional data and resources
  more effectively. You\ndon’t need to be a data expert—this is about h
 ow data becomes a\nshared language that brings people\, units\, and ideas 
 together. Join us\nto see how knowledge sharing can reduce duplication\, i
 mprove quality\,\nand create meaningful connections across the University.
DTSTAMP:20260409T063731Z
END:VEVENT
END:VCALENDAR