BEGIN:VCALENDAR
VERSION:2.0
PRODID:-//Drupal iCal API//EN
X-WR-CALNAME:Events items teaser
X-WR-TIMEZONE:America/Toronto
BEGIN:VTIMEZONE
TZID:America/Toronto
X-LIC-LOCATION:America/Toronto
BEGIN:DAYLIGHT
TZNAME:EDT
TZOFFSETFROM:-0500
TZOFFSETTO:-0400
DTSTART:20260308T070000
END:DAYLIGHT
BEGIN:STANDARD
TZNAME:EST
TZOFFSETFROM:-0400
TZOFFSETTO:-0500
DTSTART:20251102T060000
END:STANDARD
END:VTIMEZONE
BEGIN:VEVENT
UID:69d6a8abd1bfc
DTSTART;TZID=America/Toronto:20260408T090000
SEQUENCE:0
TRANSP:TRANSPARENT
DTEND;TZID=America/Toronto:20260408T100000
URL:https://uwaterloo.ca/staff-conference/events/shiftmobility-building-bet
 ter-campus-through-sustainable
SUMMARY:Shift:Mobility: Building a Better Campus Through Sustainable\nTrans
 portation Options
CLASS:PUBLIC
DESCRIPTION:As more employees return to in-person work and commuting patter
 ns\ncontinue to evolve\, this session invites you to discover the many\ntr
 avel options\, supports\, and benefits available to make your commute\nto 
 campus healthier\, more affordable\, and more sustainable. Whether\nyou’
 re curious about transit discounts\, cycling routes and bike\nparking\, or
  how to mix and match different modes of travel\, you’ll\nfind practical
  tools and services designed to support your daily\njourney. You will hear
  from Region of Waterloo / Grand River Transit\nstaff and City of Waterloo
  active transportation staff about community\nservices\, infrastructure\, 
 and employee-specific benefits that shape\nthe daily travel experience for
  campus members. You’ll also get an\nintroduction to Shift:Mobility\, th
 e University of Waterloo’s first\nSustainable Transportation Plan\, pres
 ented by Sustainable\nTransportation and the Sustainability Office. The pl
 an outlines a\ncoordinated vision for supporting all modes of travel acros
 s our\ncampuses\, including key outcomes and targets guiding future mobili
 ty\ndecisions.
DTSTAMP:20260408T191243Z
END:VEVENT
END:VCALENDAR