BEGIN:VCALENDAR
VERSION:2.0
PRODID:-//Drupal iCal API//EN
X-WR-CALNAME:Events items teaser
X-WR-TIMEZONE:America/Toronto
BEGIN:VTIMEZONE
TZID:America/Toronto
X-LIC-LOCATION:America/Toronto
BEGIN:DAYLIGHT
TZNAME:EDT
TZOFFSETFROM:-0500
TZOFFSETTO:-0400
DTSTART:20260308T070000
END:DAYLIGHT
BEGIN:STANDARD
TZNAME:EST
TZOFFSETFROM:-0400
TZOFFSETTO:-0500
DTSTART:20251102T060000
END:STANDARD
END:VTIMEZONE
BEGIN:VEVENT
UID:69d6a8a57287e
DTSTART;TZID=America/Toronto:20260408T090000
SEQUENCE:0
TRANSP:TRANSPARENT
DTEND;TZID=America/Toronto:20260408T100000
URL:https://uwaterloo.ca/staff-conference/events/so-youre-thinking-about-le
 adership
SUMMARY:So\, You’re Thinking About Leadership?
CLASS:PUBLIC
DESCRIPTION:Leadership isn’t just about titles—it’s about how you sho
 w up\nevery day. This interactive session will explore what leadership\nre
 ally means \, whether formal or informal\, and how you can\nintentionally 
 develop your skills to lead from any role. We’ll\nchallenge traditional 
 notions of leadership\, discuss pathways beyond\nthe “obvious” ones\, 
 and share practical strategies for building\nyour leadership brand\, prote
 cting your well-being\, and aligning your\nvalues with your work. Whether 
 you aspire to a formal leadership\nposition or simply want to lead by exam
 ple\, this session will help you\nreflect on your ambitions\, identify you
 r strengths\, and take\nactionable steps toward becoming the kind of leade
 r you want to be.
DTSTAMP:20260408T191237Z
END:VEVENT
END:VCALENDAR