BEGIN:VCALENDAR
VERSION:2.0
PRODID:-//Drupal iCal API//EN
X-WR-CALNAME:Events items teaser
X-WR-TIMEZONE:America/Toronto
BEGIN:VTIMEZONE
TZID:America/Toronto
X-LIC-LOCATION:America/Toronto
BEGIN:DAYLIGHT
TZNAME:EDT
TZOFFSETFROM:-0500
TZOFFSETTO:-0400
DTSTART:20260308T070000
END:DAYLIGHT
BEGIN:STANDARD
TZNAME:EST
TZOFFSETFROM:-0400
TZOFFSETTO:-0500
DTSTART:20251102T060000
END:STANDARD
END:VTIMEZONE
BEGIN:VEVENT
UID:69d6a8ac3cad8
DTSTART;TZID=America/Toronto:20260408T090000
SEQUENCE:0
TRANSP:TRANSPARENT
DTEND;TZID=America/Toronto:20260408T100000
URL:https://uwaterloo.ca/staff-conference/events/when-its-not-accessible-ev
 erything-so-much-harder-everyday
SUMMARY:“When it’s not accessible\, everything is so much harder”:\nE
 veryday Workplace Accessibility Tips
CLASS:PUBLIC
DESCRIPTION:This session will introduce fundamental tips to advance accessi
 bility\nand disability inclusion in our workplaces and communities. Drawin
 g on\nlived experience voices of disability and neurodivergence\, the\npre
 sentation will describe the impact of accessibility barriers in the\nworkp
 lace as experienced by members of our University of Waterloo\ncommunity. T
 he presentation will highlight real-world examples of\nworkplace accessibi
 lity barriers and provide guidance on easy\npractices to advance both acce
 ssibility and a culture of disability\ninclusion. Participants will leave 
 with practical strategies for\ncreating environments that go beyond compli
 ance to eliminate common\nbarriers and promote inclusive and equitable exp
 eriences.
DTSTAMP:20260408T191244Z
END:VEVENT
END:VCALENDAR