BEGIN:VCALENDAR
VERSION:2.0
PRODID:-//Drupal iCal API//EN
X-WR-CALNAME:Events items teaser
X-WR-TIMEZONE:America/Toronto
BEGIN:VTIMEZONE
TZID:America/Toronto
X-LIC-LOCATION:America/Toronto
BEGIN:DAYLIGHT
TZNAME:EDT
TZOFFSETFROM:-0500
TZOFFSETTO:-0400
DTSTART:20260308T070000
END:DAYLIGHT
BEGIN:STANDARD
TZNAME:EST
TZOFFSETFROM:-0400
TZOFFSETTO:-0500
DTSTART:20251102T060000
END:STANDARD
END:VTIMEZONE
BEGIN:VEVENT
UID:69d74906e0326
DTSTART;TZID=America/Toronto:20260408T130000
SEQUENCE:0
TRANSP:TRANSPARENT
DTEND;TZID=America/Toronto:20260408T140000
URL:https://uwaterloo.ca/staff-conference/events/learning-ai-together-pract
 ical-workshop-scenarios-and
SUMMARY:Learning AI Together: A Practical Workshop on Scenarios and Framewo
 rks
CLASS:PUBLIC
DESCRIPTION:Join us to learn about scenarios and sample prompts for common 
 tasks\,\nincluding an overview of common prompt engineering frameworks to 
 try.\nExamples include summarizing long e-mails or reports\, creating meet
 ing\nsummaries\, drafting executive summaries\, and even letting AI help y
 ou\nlearn about AI! This session is a brief presentation followed by time\
 nand space to try things out with assistance from the three workshop\ncoor
 dinators.
DTSTAMP:20260409T063654Z
END:VEVENT
END:VCALENDAR