BEGIN:VCALENDAR
VERSION:2.0
PRODID:-//Drupal iCal API//EN
X-WR-CALNAME:Events items teaser
X-WR-TIMEZONE:America/Toronto
BEGIN:VTIMEZONE
TZID:America/Toronto
X-LIC-LOCATION:America/Toronto
BEGIN:DAYLIGHT
TZNAME:EDT
TZOFFSETFROM:-0500
TZOFFSETTO:-0400
DTSTART:20260308T070000
END:DAYLIGHT
BEGIN:STANDARD
TZNAME:EST
TZOFFSETFROM:-0400
TZOFFSETTO:-0500
DTSTART:20251102T060000
END:STANDARD
END:VTIMEZONE
BEGIN:VEVENT
UID:69d6a8a7a7c1b
DTSTART;TZID=America/Toronto:20260408T130000
SEQUENCE:0
TRANSP:TRANSPARENT
DTEND;TZID=America/Toronto:20260408T140000
URL:https://uwaterloo.ca/staff-conference/events/plot-twist-your-book-might
 -be-written-ai-insights-and
SUMMARY:Plot Twist! Your Book Might Be Written by AI: Insights and Strategi
 es\nfor AI-Generated Resources
CLASS:PUBLIC
DESCRIPTION:Electronic and print resources are becoming overpopulated with 
 an\nabundance of AI created or partially created by AI ebooks. These books
 \ncould be the resources you are using for research or the newest romcom\n
 book you just downloaded\, bought or borrowed. Knowing the difference\nbet
 ween human authors and AI authors is becoming. Additionally\,\ndisclosure 
 of AI generation being used is not always up front. While\nit is not neces
 sarily a bad thing to interact with AI generated\nresources\, users should
  be aware of how their resources were created\nand what to be cautious of 
 in the process.
DTSTAMP:20260408T191239Z
END:VEVENT
END:VCALENDAR