BEGIN:VCALENDAR
VERSION:2.0
PRODID:-//Drupal iCal API//EN
X-WR-CALNAME:Events items teaser
X-WR-TIMEZONE:America/Toronto
BEGIN:VTIMEZONE
TZID:America/Toronto
X-LIC-LOCATION:America/Toronto
BEGIN:DAYLIGHT
TZNAME:EDT
TZOFFSETFROM:-0500
TZOFFSETTO:-0400
DTSTART:20260308T070000
END:DAYLIGHT
BEGIN:STANDARD
TZNAME:EST
TZOFFSETFROM:-0400
TZOFFSETTO:-0500
DTSTART:20251102T060000
END:STANDARD
END:VTIMEZONE
BEGIN:VEVENT
UID:69d748fab729f
DTSTART;TZID=America/Toronto:20260408T130000
SEQUENCE:0
TRANSP:TRANSPARENT
DTEND;TZID=America/Toronto:20260408T140000
URL:https://uwaterloo.ca/staff-conference/events/professional-and-academic-
 growth-time-uncertainty
SUMMARY:Professional and Academic Growth in a Time of Uncertainty:\nConside
 rations for Pursuing a Graduate Degree While Working
CLASS:PUBLIC
DESCRIPTION:Individuals working in higher education across Canada are facin
 g a\nperiod of uncertainty and ambiguity. In response many are\ninvestigat
 ing new opportunities for personal and professional\ndevelopment. For thos
 e considering a return to the classroom\,\nquestions of accessibility\, pr
 eparedness and the challenges of\nmanaging competing priorities are paramo
 unt. Through a panel\ndiscussion\, we will explore the major consideration
 s relevant to\nbalancing work\, school\, and life’s diverse responsibili
 ties while\nnavigating graduate studies. This panel will include current g
 raduate\nstudents who are full-time UWaterloo staff\, an expert in graduat
 e\nstudent success\, and a faculty member with experience supporting\nstud
 ents who work full-time. Panelists will share findings from recent\nresear
 ch in addition to sharing candidly about their personal\nexperiences. This
  discussion will be of interest to those who are\nthinking about pursuing 
 a graduate degree while working\, those who are\ncurrently balancing work 
 and school\, and those who support these\nstudents (such as faculty and st
 aff).
DTSTAMP:20260409T063642Z
END:VEVENT
END:VCALENDAR