BEGIN:VCALENDAR
VERSION:2.0
PRODID:-//Drupal iCal API//EN
X-WR-CALNAME:Events items teaser
X-WR-TIMEZONE:America/Toronto
BEGIN:VTIMEZONE
TZID:America/Toronto
X-LIC-LOCATION:America/Toronto
BEGIN:DAYLIGHT
TZNAME:EDT
TZOFFSETFROM:-0500
TZOFFSETTO:-0400
DTSTART:20260308T070000
END:DAYLIGHT
BEGIN:STANDARD
TZNAME:EST
TZOFFSETFROM:-0400
TZOFFSETTO:-0500
DTSTART:20251102T060000
END:STANDARD
END:VTIMEZONE
BEGIN:VEVENT
UID:69d749700d8fd
DTSTART;TZID=America/Toronto:20260407T090000
SEQUENCE:0
TRANSP:TRANSPARENT
DTEND;TZID=America/Toronto:20260407T103000
URL:https://uwaterloo.ca/staff-conference/events/welcome-opening-keynote-ni
 kki-sanchez-wisdom-orcas
SUMMARY:Welcome &amp; Opening Keynote - Nikki Sanchez - The Wisdom of the Orcas
 :\nIndigenous Relational Intelligence as a Blueprint for Climate\nAdaptati
 on
CLASS:PUBLIC
DESCRIPTION:[alt=\"\"]\nInspired by her bestselling anthology _Spirits of t
 he Coast: Orcas in\nScience\, Art and History_ and her collaborations with
  biologists\,\nhistorians\, Indigenous knowledge keepers\, poets\, artists
 \, and\ncommunities across generations\, Nikki shares a powerful insight: 
 orcas\noffer a blueprint for reimagining our relationship with the planet.
 \n\nAs a wilderness guide for over a decade\, living and working alongside
 \norcas\, she gained clarity on how decolonization and climate solutions\n
 are inextricably linked. Drawing on their relational intelligence\, she\nr
 eveals how biodiversity\, Indigenous knowledge systems\, and\nregenerative
  approaches can help humanity not only adapt to\nenvironmental change\, bu
 t transform the way we live\, lead\, and belong\non Earth.
DTSTAMP:20260409T063840Z
END:VEVENT
END:VCALENDAR