BEGIN:VCALENDAR
VERSION:2.0
PRODID:-//Drupal iCal API//EN
X-WR-CALNAME:Events items teaser
X-WR-TIMEZONE:America/Toronto
BEGIN:VTIMEZONE
TZID:America/Toronto
X-LIC-LOCATION:America/Toronto
BEGIN:DAYLIGHT
TZNAME:EDT
TZOFFSETFROM:-0500
TZOFFSETTO:-0400
DTSTART:20260308T070000
END:DAYLIGHT
BEGIN:STANDARD
TZNAME:EST
TZOFFSETFROM:-0400
TZOFFSETTO:-0500
DTSTART:20251102T060000
END:STANDARD
END:VTIMEZONE
BEGIN:VEVENT
UID:69d668bd213af
DTSTART;TZID=America/Toronto:20260408T103000
SEQUENCE:0
TRANSP:TRANSPARENT
DTEND;TZID=America/Toronto:20260408T113000
URL:https://uwaterloo.ca/staff-conference/events/morning-keynote-yan-markso
 n-power-perception-own-your-story
SUMMARY:Morning Keynote - Yan Markson- The Power of Perception: Own Your St
 ory
CLASS:PUBLIC
DESCRIPTION:[alt=\"\"]\nWhen you’re operating in a flow state\, it isn’
 t luck or\ncoincidence. It’s a self-fulfilling prophecy.\n\nYan Markson 
 offers a fresh\, engaging take on how a growth mindset and\nself-reinventi
 on can help you spot opportunities\, innovate\, and thrive\nin a fast-pace
 d world. Discover how changing your state of mind\nfundamentally changes y
 our “zone of possibilities.”
DTSTAMP:20260408T143957Z
END:VEVENT
END:VCALENDAR