BEGIN:VCALENDAR
VERSION:2.0
PRODID:-//Drupal iCal API//EN
X-WR-CALNAME:Events items teaser
X-WR-TIMEZONE:America/Toronto
BEGIN:VTIMEZONE
TZID:America/Toronto
X-LIC-LOCATION:America/Toronto
BEGIN:DAYLIGHT
TZNAME:EDT
TZOFFSETFROM:-0500
TZOFFSETTO:-0400
DTSTART:20260308T070000
END:DAYLIGHT
BEGIN:STANDARD
TZNAME:EST
TZOFFSETFROM:-0400
TZOFFSETTO:-0500
DTSTART:20251102T060000
END:STANDARD
END:VTIMEZONE
BEGIN:VEVENT
UID:69d69ac3e30cf
DTSTART;TZID=America/Toronto:20260408T144500
SEQUENCE:0
TRANSP:TRANSPARENT
DTEND;TZID=America/Toronto:20260408T160000
URL:https://uwaterloo.ca/staff-conference/events/closing-keynote-francoise-
 mathieu-edge-compassion-key-tools
SUMMARY:Closing Keynote - Françoise Mathieu - The Edge of Compassion: Key\
 ntools to stay grounded
CLASS:PUBLIC
DESCRIPTION:[alt=\"\"]\nWhy do some people thrive under pressure while othe
 rs struggle? Are\nthese skills learnable? \n\nThe landscape of our work h
 as shifted\, and many of us are navigating\nincreasingly complex systems w
 hile showing up for a community with\ndiverse and evolving needs. But how 
 do we continue to offer our best\nto others while staying centered ourselv
 es? \n\nNew research offers promising insights into maintaining psycholog
 ical\nhealth and sustaining our well-being over the long term. This\nprese
 ntation will explore practical ways to recalibrate when the work\nfeels pa
 rticularly heavy and how to build a professional life that is\nboth impact
 ful and sustainable. 
DTSTAMP:20260408T181323Z
END:VEVENT
END:VCALENDAR